BEGIN:VCALENDAR
VERSION:2.0
PRODID:-//inable - ECPv6.15.3//NONSGML v1.0//EN
CALSCALE:GREGORIAN
METHOD:PUBLISH
X-WR-CALNAME:inable
X-ORIGINAL-URL:https://inable.org
X-WR-CALDESC:Events for inable
REFRESH-INTERVAL;VALUE=DURATION:PT1H
X-Robots-Tag:noindex
X-PUBLISHED-TTL:PT1H
BEGIN:VTIMEZONE
TZID:UTC
BEGIN:STANDARD
TZOFFSETFROM:+0000
TZOFFSETTO:+0000
TZNAME:UTC
DTSTART:20260101T000000
END:STANDARD
END:VTIMEZONE
BEGIN:VEVENT
DTSTART;TZID=UTC:20260602T090000
DTEND;TZID=UTC:20260604T160000
DTSTAMP:20260423T121339
CREATED:20260211T132009Z
LAST-MODIFIED:20260216T155601Z
UID:4087-1780390800-1780588800@inable.org
SUMMARY:Inclusive Africa Conference 2026
DESCRIPTION:
URL:https://inable.org/events/inclusive-africa-conference-2026/
END:VEVENT
END:VCALENDAR